BEGIN:VCALENDAR
VERSION:2.0
PRODID:-//Texas Smash - ECPv6.0.6.2//NONSGML v1.0//EN
CALSCALE:GREGORIAN
METHOD:PUBLISH
X-ORIGINAL-URL:https://texassmash.net
X-WR-CALDESC:Events for Texas Smash
REFRESH-INTERVAL;VALUE=DURATION:PT1H
X-Robots-Tag:noindex
X-PUBLISHED-TTL:PT1H
BEGIN:VTIMEZONE
TZID:America/Chicago
BEGIN:DAYLIGHT
TZOFFSETFROM:-0600
TZOFFSETTO:-0500
TZNAME:CDT
DTSTART:20250309T080000
END:DAYLIGHT
BEGIN:STANDARD
TZOFFSETFROM:-0500
TZOFFSETTO:-0600
TZNAME:CST
DTSTART:20251102T070000
END:STANDARD
END:VTIMEZONE
BEGIN:VEVENT
DTSTART;TZID=America/Chicago:20250504T130000
DTEND;TZID=America/Chicago:20250504T220000
DTSTAMP:20260423T233551
CREATED:20220914T161051Z
LAST-MODIFIED:20220914T161051Z
UID:10006826-1746363600-1746396000@texassmash.net
SUMMARY:elYte Spaceland
DESCRIPTION:
URL:https://texassmash.net/tournament/elyte-spaceland-2/2025-05-04/
LOCATION:The Cannon\, 1334 Brittmoore Rd #1327\, Houston\, TX\, 77043\, United States
CATEGORIES:Houston,Ultimate,Weeklies
ATTACH;FMTTYPE=image/jpeg:https://texassmash.net/wp-content/uploads/2022/09/808-logo.jpg
GEO:29.7955151;-95.5688505
X-APPLE-STRUCTURED-LOCATION;VALUE=URI;X-ADDRESS=The Cannon 1334 Brittmoore Rd #1327 Houston TX 77043 United States;X-APPLE-RADIUS=500;X-TITLE=1334 Brittmoore Rd #1327:geo:-95.5688505,29.7955151
END:VEVENT
BEGIN:VEVENT
DTSTART;TZID=America/Chicago:20250505T180000
DTEND;TZID=America/Chicago:20250505T230000
DTSTAMP:20260423T233551
CREATED:20220913T175123Z
LAST-MODIFIED:20220913T175123Z
UID:10005009-1746468000-1746486000@texassmash.net
SUMMARY:808s and Shield Breaks
DESCRIPTION:
URL:https://texassmash.net/tournament/808s-and-shield-breaks/2025-05-05/
LOCATION:The Cannon\, 1334 Brittmoore Rd #1327\, Houston\, TX\, 77043\, United States
CATEGORIES:Houston,Ultimate,Weeklies
ATTACH;FMTTYPE=image/jpeg:https://texassmash.net/wp-content/uploads/2022/09/808-logo.jpg
GEO:29.7955151;-95.5688505
X-APPLE-STRUCTURED-LOCATION;VALUE=URI;X-ADDRESS=The Cannon 1334 Brittmoore Rd #1327 Houston TX 77043 United States;X-APPLE-RADIUS=500;X-TITLE=1334 Brittmoore Rd #1327:geo:-95.5688505,29.7955151
END:VEVENT
BEGIN:VEVENT
DTSTART;TZID=America/Chicago:20250506T170000
DTEND;TZID=America/Chicago:20250506T230000
DTSTAMP:20260423T233551
CREATED:20220913T200609Z
LAST-MODIFIED:20220913T201723Z
UID:10005320-1746550800-1746572400@texassmash.net
SUMMARY:GoDlike
DESCRIPTION:
URL:https://texassmash.net/tournament/godlike/2025-05-06/
LOCATION:Game of Dreams Esports Arcade\, 930 Farm to Market 1960 Rd E Suite F\, Houston\, TX\, 77073\, United States
CATEGORIES:Houston,Ultimate,Weeklies
ATTACH;FMTTYPE=image/png:https://texassmash.net/wp-content/uploads/2022/09/godlike-logo.png
GEO:30.007242;-95.1467013
X-APPLE-STRUCTURED-LOCATION;VALUE=URI;X-ADDRESS=Game of Dreams Esports Arcade 930 Farm to Market 1960 Rd E Suite F Houston TX 77073 United States;X-APPLE-RADIUS=500;X-TITLE=930 Farm to Market 1960 Rd E Suite F:geo:-95.1467013,30.007242
END:VEVENT
BEGIN:VEVENT
DTSTART;TZID=America/Chicago:20250507T170000
DTEND;TZID=America/Chicago:20250507T220000
DTSTAMP:20260423T233551
CREATED:20220913T174654Z
LAST-MODIFIED:20220913T174654Z
UID:10004739-1746637200-1746655200@texassmash.net
SUMMARY:ReSpawn
DESCRIPTION:
URL:https://texassmash.net/tournament/respawn/2025-05-07/
LOCATION:Game Guys Entertainment\, 702 Almeda Mall\, Houston\, TX\, 77075\, United States
CATEGORIES:Houston,Ultimate,Weeklies
ATTACH;FMTTYPE=image/png:https://texassmash.net/wp-content/uploads/2022/09/respawn-logo.png
GEO:29.6225193;-95.2267287
X-APPLE-STRUCTURED-LOCATION;VALUE=URI;X-ADDRESS=Game Guys Entertainment 702 Almeda Mall Houston TX 77075 United States;X-APPLE-RADIUS=500;X-TITLE=702 Almeda Mall:geo:-95.2267287,29.6225193
END:VEVENT
BEGIN:VEVENT
DTSTART;TZID=America/Chicago:20250508T175000
DTEND;TZID=America/Chicago:20250508T230000
DTSTAMP:20260423T233551
CREATED:20220912T204437Z
LAST-MODIFIED:20220913T171612Z
UID:10001495-1746726600-1746745200@texassmash.net
SUMMARY:Moonwalk Tournament Series
DESCRIPTION:
URL:https://texassmash.net/tournament/moonwalk-tournament-series/2025-05-08/
LOCATION:the Montrose Center\, 401 Branard St 2nd Floor\, Houston\, TX\, 77006\, United States
CATEGORIES:Houston,Melee,Ultimate,Weeklies
ATTACH;FMTTYPE=image/jpeg:https://texassmash.net/wp-content/uploads/2022/09/Moon-Walk-Icon.jpeg
GEO:29.7365168;-95.3846775
X-APPLE-STRUCTURED-LOCATION;VALUE=URI;X-ADDRESS=the Montrose Center 401 Branard St 2nd Floor Houston TX 77006 United States;X-APPLE-RADIUS=500;X-TITLE=401 Branard St 2nd Floor:geo:-95.3846775,29.7365168
END:VEVENT
BEGIN:VEVENT
DTSTART;TZID=America/Chicago:20250511T130000
DTEND;TZID=America/Chicago:20250511T220000
DTSTAMP:20260423T233551
CREATED:20220914T161051Z
LAST-MODIFIED:20220914T161051Z
UID:10006827-1746968400-1747000800@texassmash.net
SUMMARY:elYte Spaceland
DESCRIPTION:
URL:https://texassmash.net/tournament/elyte-spaceland-2/2025-05-11/
LOCATION:The Cannon\, 1334 Brittmoore Rd #1327\, Houston\, TX\, 77043\, United States
CATEGORIES:Houston,Ultimate,Weeklies
ATTACH;FMTTYPE=image/jpeg:https://texassmash.net/wp-content/uploads/2022/09/808-logo.jpg
GEO:29.7955151;-95.5688505
X-APPLE-STRUCTURED-LOCATION;VALUE=URI;X-ADDRESS=The Cannon 1334 Brittmoore Rd #1327 Houston TX 77043 United States;X-APPLE-RADIUS=500;X-TITLE=1334 Brittmoore Rd #1327:geo:-95.5688505,29.7955151
END:VEVENT
BEGIN:VEVENT
DTSTART;TZID=America/Chicago:20250512T180000
DTEND;TZID=America/Chicago:20250512T230000
DTSTAMP:20260423T233551
CREATED:20220913T175123Z
LAST-MODIFIED:20220913T175123Z
UID:10005010-1747072800-1747090800@texassmash.net
SUMMARY:808s and Shield Breaks
DESCRIPTION:
URL:https://texassmash.net/tournament/808s-and-shield-breaks/2025-05-12/
LOCATION:The Cannon\, 1334 Brittmoore Rd #1327\, Houston\, TX\, 77043\, United States
CATEGORIES:Houston,Ultimate,Weeklies
ATTACH;FMTTYPE=image/jpeg:https://texassmash.net/wp-content/uploads/2022/09/808-logo.jpg
GEO:29.7955151;-95.5688505
X-APPLE-STRUCTURED-LOCATION;VALUE=URI;X-ADDRESS=The Cannon 1334 Brittmoore Rd #1327 Houston TX 77043 United States;X-APPLE-RADIUS=500;X-TITLE=1334 Brittmoore Rd #1327:geo:-95.5688505,29.7955151
END:VEVENT
BEGIN:VEVENT
DTSTART;TZID=America/Chicago:20250513T170000
DTEND;TZID=America/Chicago:20250513T230000
DTSTAMP:20260423T233551
CREATED:20220913T200609Z
LAST-MODIFIED:20220913T201723Z
UID:10005321-1747155600-1747177200@texassmash.net
SUMMARY:GoDlike
DESCRIPTION:
URL:https://texassmash.net/tournament/godlike/2025-05-13/
LOCATION:Game of Dreams Esports Arcade\, 930 Farm to Market 1960 Rd E Suite F\, Houston\, TX\, 77073\, United States
CATEGORIES:Houston,Ultimate,Weeklies
ATTACH;FMTTYPE=image/png:https://texassmash.net/wp-content/uploads/2022/09/godlike-logo.png
GEO:30.007242;-95.1467013
X-APPLE-STRUCTURED-LOCATION;VALUE=URI;X-ADDRESS=Game of Dreams Esports Arcade 930 Farm to Market 1960 Rd E Suite F Houston TX 77073 United States;X-APPLE-RADIUS=500;X-TITLE=930 Farm to Market 1960 Rd E Suite F:geo:-95.1467013,30.007242
END:VEVENT
BEGIN:VEVENT
DTSTART;TZID=America/Chicago:20250514T170000
DTEND;TZID=America/Chicago:20250514T220000
DTSTAMP:20260423T233551
CREATED:20220913T174654Z
LAST-MODIFIED:20220913T174654Z
UID:10004740-1747242000-1747260000@texassmash.net
SUMMARY:ReSpawn
DESCRIPTION:
URL:https://texassmash.net/tournament/respawn/2025-05-14/
LOCATION:Game Guys Entertainment\, 702 Almeda Mall\, Houston\, TX\, 77075\, United States
CATEGORIES:Houston,Ultimate,Weeklies
ATTACH;FMTTYPE=image/png:https://texassmash.net/wp-content/uploads/2022/09/respawn-logo.png
GEO:29.6225193;-95.2267287
X-APPLE-STRUCTURED-LOCATION;VALUE=URI;X-ADDRESS=Game Guys Entertainment 702 Almeda Mall Houston TX 77075 United States;X-APPLE-RADIUS=500;X-TITLE=702 Almeda Mall:geo:-95.2267287,29.6225193
END:VEVENT
BEGIN:VEVENT
DTSTART;TZID=America/Chicago:20250515T170000
DTEND;TZID=America/Chicago:20250515T230000
DTSTAMP:20260423T233551
CREATED:20220913T203236Z
LAST-MODIFIED:20220913T204940Z
UID:10005548-1747328400-1747350000@texassmash.net
SUMMARY:Chemical Plant Zone
DESCRIPTION:
URL:https://texassmash.net/tournament/chemical-plant-zone/2025-05-15/
LOCATION:Leeroys Esports\, 221 Parking Way suite b\, Lake Jackson\, TX\, 77566\, United States
CATEGORIES:Houston,Ultimate,Weeklies
ATTACH;FMTTYPE=image/png:https://texassmash.net/wp-content/uploads/2022/09/cpz-logo.png
GEO:29.042083;-95.450511
X-APPLE-STRUCTURED-LOCATION;VALUE=URI;X-ADDRESS=Leeroys Esports 221 Parking Way suite b Lake Jackson TX 77566 United States;X-APPLE-RADIUS=500;X-TITLE=221 Parking Way suite b:geo:-95.450511,29.042083
END:VEVENT
BEGIN:VEVENT
DTSTART;TZID=America/Chicago:20250515T175000
DTEND;TZID=America/Chicago:20250515T230000
DTSTAMP:20260423T233551
CREATED:20220912T204437Z
LAST-MODIFIED:20220913T171612Z
UID:10001496-1747331400-1747350000@texassmash.net
SUMMARY:Moonwalk Tournament Series
DESCRIPTION:
URL:https://texassmash.net/tournament/moonwalk-tournament-series/2025-05-15/
LOCATION:the Montrose Center\, 401 Branard St 2nd Floor\, Houston\, TX\, 77006\, United States
CATEGORIES:Houston,Melee,Ultimate,Weeklies
ATTACH;FMTTYPE=image/jpeg:https://texassmash.net/wp-content/uploads/2022/09/Moon-Walk-Icon.jpeg
GEO:29.7365168;-95.3846775
X-APPLE-STRUCTURED-LOCATION;VALUE=URI;X-ADDRESS=the Montrose Center 401 Branard St 2nd Floor Houston TX 77006 United States;X-APPLE-RADIUS=500;X-TITLE=401 Branard St 2nd Floor:geo:-95.3846775,29.7365168
END:VEVENT
BEGIN:VEVENT
DTSTART;TZID=America/Chicago:20250518T130000
DTEND;TZID=America/Chicago:20250518T220000
DTSTAMP:20260423T233551
CREATED:20220914T161051Z
LAST-MODIFIED:20220914T161051Z
UID:10006828-1747573200-1747605600@texassmash.net
SUMMARY:elYte Spaceland
DESCRIPTION:
URL:https://texassmash.net/tournament/elyte-spaceland-2/2025-05-18/
LOCATION:The Cannon\, 1334 Brittmoore Rd #1327\, Houston\, TX\, 77043\, United States
CATEGORIES:Houston,Ultimate,Weeklies
ATTACH;FMTTYPE=image/jpeg:https://texassmash.net/wp-content/uploads/2022/09/808-logo.jpg
GEO:29.7955151;-95.5688505
X-APPLE-STRUCTURED-LOCATION;VALUE=URI;X-ADDRESS=The Cannon 1334 Brittmoore Rd #1327 Houston TX 77043 United States;X-APPLE-RADIUS=500;X-TITLE=1334 Brittmoore Rd #1327:geo:-95.5688505,29.7955151
END:VEVENT
BEGIN:VEVENT
DTSTART;TZID=America/Chicago:20250519T180000
DTEND;TZID=America/Chicago:20250519T230000
DTSTAMP:20260423T233551
CREATED:20220913T175123Z
LAST-MODIFIED:20220913T175123Z
UID:10005011-1747677600-1747695600@texassmash.net
SUMMARY:808s and Shield Breaks
DESCRIPTION:
URL:https://texassmash.net/tournament/808s-and-shield-breaks/2025-05-19/
LOCATION:The Cannon\, 1334 Brittmoore Rd #1327\, Houston\, TX\, 77043\, United States
CATEGORIES:Houston,Ultimate,Weeklies
ATTACH;FMTTYPE=image/jpeg:https://texassmash.net/wp-content/uploads/2022/09/808-logo.jpg
GEO:29.7955151;-95.5688505
X-APPLE-STRUCTURED-LOCATION;VALUE=URI;X-ADDRESS=The Cannon 1334 Brittmoore Rd #1327 Houston TX 77043 United States;X-APPLE-RADIUS=500;X-TITLE=1334 Brittmoore Rd #1327:geo:-95.5688505,29.7955151
END:VEVENT
BEGIN:VEVENT
DTSTART;TZID=America/Chicago:20250520T170000
DTEND;TZID=America/Chicago:20250520T230000
DTSTAMP:20260423T233551
CREATED:20220913T200609Z
LAST-MODIFIED:20220913T201723Z
UID:10005322-1747760400-1747782000@texassmash.net
SUMMARY:GoDlike
DESCRIPTION:
URL:https://texassmash.net/tournament/godlike/2025-05-20/
LOCATION:Game of Dreams Esports Arcade\, 930 Farm to Market 1960 Rd E Suite F\, Houston\, TX\, 77073\, United States
CATEGORIES:Houston,Ultimate,Weeklies
ATTACH;FMTTYPE=image/png:https://texassmash.net/wp-content/uploads/2022/09/godlike-logo.png
GEO:30.007242;-95.1467013
X-APPLE-STRUCTURED-LOCATION;VALUE=URI;X-ADDRESS=Game of Dreams Esports Arcade 930 Farm to Market 1960 Rd E Suite F Houston TX 77073 United States;X-APPLE-RADIUS=500;X-TITLE=930 Farm to Market 1960 Rd E Suite F:geo:-95.1467013,30.007242
END:VEVENT
BEGIN:VEVENT
DTSTART;TZID=America/Chicago:20250521T170000
DTEND;TZID=America/Chicago:20250521T220000
DTSTAMP:20260423T233551
CREATED:20220913T174654Z
LAST-MODIFIED:20220913T174654Z
UID:10004741-1747846800-1747864800@texassmash.net
SUMMARY:ReSpawn
DESCRIPTION:
URL:https://texassmash.net/tournament/respawn/2025-05-21/
LOCATION:Game Guys Entertainment\, 702 Almeda Mall\, Houston\, TX\, 77075\, United States
CATEGORIES:Houston,Ultimate,Weeklies
ATTACH;FMTTYPE=image/png:https://texassmash.net/wp-content/uploads/2022/09/respawn-logo.png
GEO:29.6225193;-95.2267287
X-APPLE-STRUCTURED-LOCATION;VALUE=URI;X-ADDRESS=Game Guys Entertainment 702 Almeda Mall Houston TX 77075 United States;X-APPLE-RADIUS=500;X-TITLE=702 Almeda Mall:geo:-95.2267287,29.6225193
END:VEVENT
BEGIN:VEVENT
DTSTART;TZID=America/Chicago:20250522T175000
DTEND;TZID=America/Chicago:20250522T230000
DTSTAMP:20260423T233551
CREATED:20220912T204437Z
LAST-MODIFIED:20220913T171612Z
UID:10001497-1747936200-1747954800@texassmash.net
SUMMARY:Moonwalk Tournament Series
DESCRIPTION:
URL:https://texassmash.net/tournament/moonwalk-tournament-series/2025-05-22/
LOCATION:the Montrose Center\, 401 Branard St 2nd Floor\, Houston\, TX\, 77006\, United States
CATEGORIES:Houston,Melee,Ultimate,Weeklies
ATTACH;FMTTYPE=image/jpeg:https://texassmash.net/wp-content/uploads/2022/09/Moon-Walk-Icon.jpeg
GEO:29.7365168;-95.3846775
X-APPLE-STRUCTURED-LOCATION;VALUE=URI;X-ADDRESS=the Montrose Center 401 Branard St 2nd Floor Houston TX 77006 United States;X-APPLE-RADIUS=500;X-TITLE=401 Branard St 2nd Floor:geo:-95.3846775,29.7365168
END:VEVENT
BEGIN:VEVENT
DTSTART;TZID=America/Chicago:20250525T130000
DTEND;TZID=America/Chicago:20250525T220000
DTSTAMP:20260423T233551
CREATED:20220914T161051Z
LAST-MODIFIED:20220914T161051Z
UID:10006829-1748178000-1748210400@texassmash.net
SUMMARY:elYte Spaceland
DESCRIPTION:
URL:https://texassmash.net/tournament/elyte-spaceland-2/2025-05-25/
LOCATION:The Cannon\, 1334 Brittmoore Rd #1327\, Houston\, TX\, 77043\, United States
CATEGORIES:Houston,Ultimate,Weeklies
ATTACH;FMTTYPE=image/jpeg:https://texassmash.net/wp-content/uploads/2022/09/808-logo.jpg
GEO:29.7955151;-95.5688505
X-APPLE-STRUCTURED-LOCATION;VALUE=URI;X-ADDRESS=The Cannon 1334 Brittmoore Rd #1327 Houston TX 77043 United States;X-APPLE-RADIUS=500;X-TITLE=1334 Brittmoore Rd #1327:geo:-95.5688505,29.7955151
END:VEVENT
BEGIN:VEVENT
DTSTART;TZID=America/Chicago:20250526T180000
DTEND;TZID=America/Chicago:20250526T230000
DTSTAMP:20260423T233551
CREATED:20220913T175123Z
LAST-MODIFIED:20220913T175123Z
UID:10005012-1748282400-1748300400@texassmash.net
SUMMARY:808s and Shield Breaks
DESCRIPTION:
URL:https://texassmash.net/tournament/808s-and-shield-breaks/2025-05-26/
LOCATION:The Cannon\, 1334 Brittmoore Rd #1327\, Houston\, TX\, 77043\, United States
CATEGORIES:Houston,Ultimate,Weeklies
ATTACH;FMTTYPE=image/jpeg:https://texassmash.net/wp-content/uploads/2022/09/808-logo.jpg
GEO:29.7955151;-95.5688505
X-APPLE-STRUCTURED-LOCATION;VALUE=URI;X-ADDRESS=The Cannon 1334 Brittmoore Rd #1327 Houston TX 77043 United States;X-APPLE-RADIUS=500;X-TITLE=1334 Brittmoore Rd #1327:geo:-95.5688505,29.7955151
END:VEVENT
BEGIN:VEVENT
DTSTART;TZID=America/Chicago:20250527T170000
DTEND;TZID=America/Chicago:20250527T230000
DTSTAMP:20260423T233551
CREATED:20220913T200609Z
LAST-MODIFIED:20220913T201723Z
UID:10005323-1748365200-1748386800@texassmash.net
SUMMARY:GoDlike
DESCRIPTION:
URL:https://texassmash.net/tournament/godlike/2025-05-27/
LOCATION:Game of Dreams Esports Arcade\, 930 Farm to Market 1960 Rd E Suite F\, Houston\, TX\, 77073\, United States
CATEGORIES:Houston,Ultimate,Weeklies
ATTACH;FMTTYPE=image/png:https://texassmash.net/wp-content/uploads/2022/09/godlike-logo.png
GEO:30.007242;-95.1467013
X-APPLE-STRUCTURED-LOCATION;VALUE=URI;X-ADDRESS=Game of Dreams Esports Arcade 930 Farm to Market 1960 Rd E Suite F Houston TX 77073 United States;X-APPLE-RADIUS=500;X-TITLE=930 Farm to Market 1960 Rd E Suite F:geo:-95.1467013,30.007242
END:VEVENT
BEGIN:VEVENT
DTSTART;TZID=America/Chicago:20250528T170000
DTEND;TZID=America/Chicago:20250528T220000
DTSTAMP:20260423T233551
CREATED:20220913T174654Z
LAST-MODIFIED:20220913T174654Z
UID:10004742-1748451600-1748469600@texassmash.net
SUMMARY:ReSpawn
DESCRIPTION:
URL:https://texassmash.net/tournament/respawn/2025-05-28/
LOCATION:Game Guys Entertainment\, 702 Almeda Mall\, Houston\, TX\, 77075\, United States
CATEGORIES:Houston,Ultimate,Weeklies
ATTACH;FMTTYPE=image/png:https://texassmash.net/wp-content/uploads/2022/09/respawn-logo.png
GEO:29.6225193;-95.2267287
X-APPLE-STRUCTURED-LOCATION;VALUE=URI;X-ADDRESS=Game Guys Entertainment 702 Almeda Mall Houston TX 77075 United States;X-APPLE-RADIUS=500;X-TITLE=702 Almeda Mall:geo:-95.2267287,29.6225193
END:VEVENT
BEGIN:VEVENT
DTSTART;TZID=America/Chicago:20250529T170000
DTEND;TZID=America/Chicago:20250529T230000
DTSTAMP:20260423T233551
CREATED:20220913T203236Z
LAST-MODIFIED:20220913T204940Z
UID:10005549-1748538000-1748559600@texassmash.net
SUMMARY:Chemical Plant Zone
DESCRIPTION:
URL:https://texassmash.net/tournament/chemical-plant-zone/2025-05-29/
LOCATION:Leeroys Esports\, 221 Parking Way suite b\, Lake Jackson\, TX\, 77566\, United States
CATEGORIES:Houston,Ultimate,Weeklies
ATTACH;FMTTYPE=image/png:https://texassmash.net/wp-content/uploads/2022/09/cpz-logo.png
GEO:29.042083;-95.450511
X-APPLE-STRUCTURED-LOCATION;VALUE=URI;X-ADDRESS=Leeroys Esports 221 Parking Way suite b Lake Jackson TX 77566 United States;X-APPLE-RADIUS=500;X-TITLE=221 Parking Way suite b:geo:-95.450511,29.042083
END:VEVENT
BEGIN:VEVENT
DTSTART;TZID=America/Chicago:20250529T175000
DTEND;TZID=America/Chicago:20250529T230000
DTSTAMP:20260423T233551
CREATED:20220912T204437Z
LAST-MODIFIED:20220913T171612Z
UID:10001498-1748541000-1748559600@texassmash.net
SUMMARY:Moonwalk Tournament Series
DESCRIPTION:
URL:https://texassmash.net/tournament/moonwalk-tournament-series/2025-05-29/
LOCATION:the Montrose Center\, 401 Branard St 2nd Floor\, Houston\, TX\, 77006\, United States
CATEGORIES:Houston,Melee,Ultimate,Weeklies
ATTACH;FMTTYPE=image/jpeg:https://texassmash.net/wp-content/uploads/2022/09/Moon-Walk-Icon.jpeg
GEO:29.7365168;-95.3846775
X-APPLE-STRUCTURED-LOCATION;VALUE=URI;X-ADDRESS=the Montrose Center 401 Branard St 2nd Floor Houston TX 77006 United States;X-APPLE-RADIUS=500;X-TITLE=401 Branard St 2nd Floor:geo:-95.3846775,29.7365168
END:VEVENT
BEGIN:VEVENT
DTSTART;TZID=America/Chicago:20250601T130000
DTEND;TZID=America/Chicago:20250601T220000
DTSTAMP:20260423T233551
CREATED:20220914T161051Z
LAST-MODIFIED:20220914T161051Z
UID:10006830-1748782800-1748815200@texassmash.net
SUMMARY:elYte Spaceland
DESCRIPTION:
URL:https://texassmash.net/tournament/elyte-spaceland-2/2025-06-01/
LOCATION:The Cannon\, 1334 Brittmoore Rd #1327\, Houston\, TX\, 77043\, United States
CATEGORIES:Houston,Ultimate,Weeklies
ATTACH;FMTTYPE=image/jpeg:https://texassmash.net/wp-content/uploads/2022/09/808-logo.jpg
GEO:29.7955151;-95.5688505
X-APPLE-STRUCTURED-LOCATION;VALUE=URI;X-ADDRESS=The Cannon 1334 Brittmoore Rd #1327 Houston TX 77043 United States;X-APPLE-RADIUS=500;X-TITLE=1334 Brittmoore Rd #1327:geo:-95.5688505,29.7955151
END:VEVENT
BEGIN:VEVENT
DTSTART;TZID=America/Chicago:20250602T180000
DTEND;TZID=America/Chicago:20250602T230000
DTSTAMP:20260423T233551
CREATED:20220913T175123Z
LAST-MODIFIED:20220913T175123Z
UID:10005013-1748887200-1748905200@texassmash.net
SUMMARY:808s and Shield Breaks
DESCRIPTION:
URL:https://texassmash.net/tournament/808s-and-shield-breaks/2025-06-02/
LOCATION:The Cannon\, 1334 Brittmoore Rd #1327\, Houston\, TX\, 77043\, United States
CATEGORIES:Houston,Ultimate,Weeklies
ATTACH;FMTTYPE=image/jpeg:https://texassmash.net/wp-content/uploads/2022/09/808-logo.jpg
GEO:29.7955151;-95.5688505
X-APPLE-STRUCTURED-LOCATION;VALUE=URI;X-ADDRESS=The Cannon 1334 Brittmoore Rd #1327 Houston TX 77043 United States;X-APPLE-RADIUS=500;X-TITLE=1334 Brittmoore Rd #1327:geo:-95.5688505,29.7955151
END:VEVENT
BEGIN:VEVENT
DTSTART;TZID=America/Chicago:20250603T170000
DTEND;TZID=America/Chicago:20250603T230000
DTSTAMP:20260423T233551
CREATED:20220913T200609Z
LAST-MODIFIED:20220913T201723Z
UID:10005324-1748970000-1748991600@texassmash.net
SUMMARY:GoDlike
DESCRIPTION:
URL:https://texassmash.net/tournament/godlike/2025-06-03/
LOCATION:Game of Dreams Esports Arcade\, 930 Farm to Market 1960 Rd E Suite F\, Houston\, TX\, 77073\, United States
CATEGORIES:Houston,Ultimate,Weeklies
ATTACH;FMTTYPE=image/png:https://texassmash.net/wp-content/uploads/2022/09/godlike-logo.png
GEO:30.007242;-95.1467013
X-APPLE-STRUCTURED-LOCATION;VALUE=URI;X-ADDRESS=Game of Dreams Esports Arcade 930 Farm to Market 1960 Rd E Suite F Houston TX 77073 United States;X-APPLE-RADIUS=500;X-TITLE=930 Farm to Market 1960 Rd E Suite F:geo:-95.1467013,30.007242
END:VEVENT
BEGIN:VEVENT
DTSTART;TZID=America/Chicago:20250604T170000
DTEND;TZID=America/Chicago:20250604T220000
DTSTAMP:20260423T233551
CREATED:20220913T174654Z
LAST-MODIFIED:20220913T174654Z
UID:10004743-1749056400-1749074400@texassmash.net
SUMMARY:ReSpawn
DESCRIPTION:
URL:https://texassmash.net/tournament/respawn/2025-06-04/
LOCATION:Game Guys Entertainment\, 702 Almeda Mall\, Houston\, TX\, 77075\, United States
CATEGORIES:Houston,Ultimate,Weeklies
ATTACH;FMTTYPE=image/png:https://texassmash.net/wp-content/uploads/2022/09/respawn-logo.png
GEO:29.6225193;-95.2267287
X-APPLE-STRUCTURED-LOCATION;VALUE=URI;X-ADDRESS=Game Guys Entertainment 702 Almeda Mall Houston TX 77075 United States;X-APPLE-RADIUS=500;X-TITLE=702 Almeda Mall:geo:-95.2267287,29.6225193
END:VEVENT
BEGIN:VEVENT
DTSTART;TZID=America/Chicago:20250605T175000
DTEND;TZID=America/Chicago:20250605T230000
DTSTAMP:20260423T233551
CREATED:20220912T204437Z
LAST-MODIFIED:20220913T171612Z
UID:10001499-1749145800-1749164400@texassmash.net
SUMMARY:Moonwalk Tournament Series
DESCRIPTION:
URL:https://texassmash.net/tournament/moonwalk-tournament-series/2025-06-05/
LOCATION:the Montrose Center\, 401 Branard St 2nd Floor\, Houston\, TX\, 77006\, United States
CATEGORIES:Houston,Melee,Ultimate,Weeklies
ATTACH;FMTTYPE=image/jpeg:https://texassmash.net/wp-content/uploads/2022/09/Moon-Walk-Icon.jpeg
GEO:29.7365168;-95.3846775
X-APPLE-STRUCTURED-LOCATION;VALUE=URI;X-ADDRESS=the Montrose Center 401 Branard St 2nd Floor Houston TX 77006 United States;X-APPLE-RADIUS=500;X-TITLE=401 Branard St 2nd Floor:geo:-95.3846775,29.7365168
END:VEVENT
BEGIN:VEVENT
DTSTART;TZID=America/Chicago:20250608T130000
DTEND;TZID=America/Chicago:20250608T220000
DTSTAMP:20260423T233551
CREATED:20220914T161051Z
LAST-MODIFIED:20220914T161051Z
UID:10006831-1749387600-1749420000@texassmash.net
SUMMARY:elYte Spaceland
DESCRIPTION:
URL:https://texassmash.net/tournament/elyte-spaceland-2/2025-06-08/
LOCATION:The Cannon\, 1334 Brittmoore Rd #1327\, Houston\, TX\, 77043\, United States
CATEGORIES:Houston,Ultimate,Weeklies
ATTACH;FMTTYPE=image/jpeg:https://texassmash.net/wp-content/uploads/2022/09/808-logo.jpg
GEO:29.7955151;-95.5688505
X-APPLE-STRUCTURED-LOCATION;VALUE=URI;X-ADDRESS=The Cannon 1334 Brittmoore Rd #1327 Houston TX 77043 United States;X-APPLE-RADIUS=500;X-TITLE=1334 Brittmoore Rd #1327:geo:-95.5688505,29.7955151
END:VEVENT
BEGIN:VEVENT
DTSTART;TZID=America/Chicago:20250609T180000
DTEND;TZID=America/Chicago:20250609T230000
DTSTAMP:20260423T233551
CREATED:20220913T175123Z
LAST-MODIFIED:20220913T175123Z
UID:10005014-1749492000-1749510000@texassmash.net
SUMMARY:808s and Shield Breaks
DESCRIPTION:
URL:https://texassmash.net/tournament/808s-and-shield-breaks/2025-06-09/
LOCATION:The Cannon\, 1334 Brittmoore Rd #1327\, Houston\, TX\, 77043\, United States
CATEGORIES:Houston,Ultimate,Weeklies
ATTACH;FMTTYPE=image/jpeg:https://texassmash.net/wp-content/uploads/2022/09/808-logo.jpg
GEO:29.7955151;-95.5688505
X-APPLE-STRUCTURED-LOCATION;VALUE=URI;X-ADDRESS=The Cannon 1334 Brittmoore Rd #1327 Houston TX 77043 United States;X-APPLE-RADIUS=500;X-TITLE=1334 Brittmoore Rd #1327:geo:-95.5688505,29.7955151
END:VEVENT
BEGIN:VEVENT
DTSTART;TZID=America/Chicago:20250610T170000
DTEND;TZID=America/Chicago:20250610T230000
DTSTAMP:20260423T233551
CREATED:20220913T200609Z
LAST-MODIFIED:20220913T201723Z
UID:10005325-1749574800-1749596400@texassmash.net
SUMMARY:GoDlike
DESCRIPTION:
URL:https://texassmash.net/tournament/godlike/2025-06-10/
LOCATION:Game of Dreams Esports Arcade\, 930 Farm to Market 1960 Rd E Suite F\, Houston\, TX\, 77073\, United States
CATEGORIES:Houston,Ultimate,Weeklies
ATTACH;FMTTYPE=image/png:https://texassmash.net/wp-content/uploads/2022/09/godlike-logo.png
GEO:30.007242;-95.1467013
X-APPLE-STRUCTURED-LOCATION;VALUE=URI;X-ADDRESS=Game of Dreams Esports Arcade 930 Farm to Market 1960 Rd E Suite F Houston TX 77073 United States;X-APPLE-RADIUS=500;X-TITLE=930 Farm to Market 1960 Rd E Suite F:geo:-95.1467013,30.007242
END:VEVENT
END:VCALENDAR