BEGIN:VCALENDAR
VERSION:2.0
PRODID:-//Texas Smash - ECPv6.0.6.2//NONSGML v1.0//EN
CALSCALE:GREGORIAN
METHOD:PUBLISH
X-ORIGINAL-URL:https://texassmash.net
X-WR-CALDESC:Events for Texas Smash
REFRESH-INTERVAL;VALUE=DURATION:PT1H
X-Robots-Tag:noindex
X-PUBLISHED-TTL:PT1H
BEGIN:VTIMEZONE
TZID:America/Chicago
BEGIN:DAYLIGHT
TZOFFSETFROM:-0600
TZOFFSETTO:-0500
TZNAME:CDT
DTSTART:20220313T080000
END:DAYLIGHT
BEGIN:STANDARD
TZOFFSETFROM:-0500
TZOFFSETTO:-0600
TZNAME:CST
DTSTART:20221106T070000
END:STANDARD
END:VTIMEZONE
BEGIN:VEVENT
DTSTART;VALUE=DATE:20220916
DTEND;VALUE=DATE:20220919
DTSTAMP:20260420T120446
CREATED:20220923T204617Z
LAST-MODIFIED:20220923T204617Z
UID:10007013-1663290000-1663462799@texassmash.net
SUMMARY:Smashtoberfest 2022
DESCRIPTION:
URL:https://texassmash.net/tournament/smashtoberfest-2022/
LOCATION:New Magnolia Brewing Co\, 1616 Bevis St\, Houston\, TX\, 77008\, United States
CATEGORIES:Houston,Major,Smash 64
ATTACH;FMTTYPE=image/png:https://texassmash.net/wp-content/uploads/2022/09/smashtoberfest-logo.png
GEO:29.8002767;-95.4219734
X-APPLE-STRUCTURED-LOCATION;VALUE=URI;X-ADDRESS=New Magnolia Brewing Co 1616 Bevis St Houston TX 77008 United States;X-APPLE-RADIUS=500;X-TITLE=1616 Bevis St:geo:-95.4219734,29.8002767
END:VEVENT
END:VCALENDAR